BEGIN:VCALENDAR
VERSION:2.0
PRODID:-//eventon.com NONSGML v1.0//EN
CALSCALE:GREGORIAN
METHOD:PUBLISH
BEGIN:VEVENT
UID:69e73538f1d42
DTSTAMP:20260421T082840Z
DTSTART:20241021T170000Z
DTEND:20241021T170000Z
LOCATION:Pl. la Catedral\,  s/n
SUMMARY:Teatro "La casa de las brujas" 
DESCRIPTION:\nhttps://asexorate.org/events/teatro-la-casa-de-las-brujas/
URL:https://asexorate.org/events/teatro-la-casa-de-las-brujas/
END:VEVENT
END:VCALENDAR